BEGIN:VCALENDAR
VERSION:2.0
PRODID:-//hacksw/handcal//NONSGML v1.0//EN
BEGIN:VEVENT
SUMMARY:CHAMPIONNATS DEPARTEMENTAUX - DOUBLES ET MIXTES
UID:d8a18316-0f45-4f02-a0aa-8d77573324da
DTSTART:20141031T230000Z
DTEND:20141102T230000Z
LOCATION:Localisation Gymnase de Saint Leonard  
CATEGORIES:Sportif
STATUS:
DESCRIPTION:<p>Championnat departemantale ouvert aux categories
 poussins a veterans</p>
 
 <p>Inscription jusqu'au 12/10/14 inclus pour
 les adultes et jusqu'au 20/10/14 pour les jeunes.</p>
 
 <p><a
 href="https://admin.sportsregions.fr/media/uploaded/sites/351/kcupload/files/InvitationDoublesCODEP2014.pdf"
 target="_blank" rel="noreferrer noopener">-plaquette</a></p>
 
 <p><a
 href="https://admin.sportsregions.fr/media/uploaded/sites/351/kcupload/files/champ%20d%C3%A9part%20double.pdf"
 target="_blank" rel="noreferrer noopener">- Fiche d'information
 jeune</a></p>
 
 <p><span style="color:rgb(40,40,40);font-family:Arial,
 sans-serif;">Merci de passer uniquement par le lien suivant pour
 votre inscription: </span><a
 href="https://docs.google.com/forms/d/1wIR_5xF9mW7ayshB7FXTReyE8OYz7LTD6lQm9654mDU/viewform?usp=send_form"
 target="_blank" rel="noreferrer
 noopener">https://docs.google.com/forms/d/1wIR_5xF9mW7ayshB7FXTReyE8OYz7LTD6lQm9654mDU/viewform?usp=send_form</a></p>
 
 <p><span
 style="color:rgb(40,40,40);font-family:Arial, sans-serif;">Pour
 toutes infos complementaires vous pouvez envoyer un message a
 asbad87_inscription_tournoi@yahoo.fr</span></p>
URL;VALUE=URI:https://www.asbad87.com/evenements/2014/11/01/championnats-departementaux-doubles-et-mixtes-513200
END:VEVENT
END:VCALENDAR
