BEGIN:VCALENDAR
VERSION:2.0
PRODID:-//hacksw/handcal//NONSGML v1.0//EN
BEGIN:VEVENT
SUMMARY:CHAMPIONNAT DEPARTEMENTAL - SIMPLE
UID:f2e5111e-9caa-4de6-85a6-5bb50570b857
DTSTART:20150327T230000Z
DTEND:20150329T230000Z
LOCATION:Localisation   
CATEGORIES:Sportif
STATUS:
DESCRIPTION:<p style="color:rgb(40,40,40);font-family:Arial,
 sans-serif;">Championnat departementale de simple Categorie
 Jeune/Seniors/Veterans</p>
 
 <p
 style="color:rgb(40,40,40);font-family:Arial,
 sans-serif;">Inscription jusqu'au 17/03/15 inclus</p>
 
 <p
 style="color:rgb(40,40,40);font-family:Arial, sans-serif;">!!!!!
 Attention systeme de tournoi particulier bien lire le reglement
 !!!!</p>
 
 <p style="color:rgb(40,40,40);font-family:Arial,
 sans-serif;"><a
 href="https://admin.sportsregions.fr/media/uploaded/sites/351/kcupload/files/invitations_clubs-championnat-simple-2015.doc"
 target="_blank" rel="noreferrer noopener">-plaquette</a></p>
 
 <p
 style="color:rgb(40,40,40);font-family:Arial,
 sans-serif;"><span>Merci de passer uniquement par le lien suivant
 pour votre inscription:</span></p>
 
 <p
 style="color:rgb(40,40,40);font-family:Arial, sans-serif;"><a
 href="https://docs.google.com/forms/d/1IIUtzPfAadlL1N6u2q6B_-s47q1_ITJ49kceC20KNSI/viewform?usp=send_form"
 target="_blank" rel="noreferrer
 noopener">https://docs.google.com/forms/d/1IIUtzPfAadlL1N6u2q6B_-s47q1_ITJ49kceC20KNSI/viewform?usp=send_form</a></p>
 
 <p
 style="color:rgb(40,40,40);font-family:Arial, sans-serif;"><span>Pour
 toutes infos complementaires vous pouvez envoyer un message a
 asbad87_inscription_tournoi@yahoo.fr</span></p>
URL;VALUE=URI:https://www.asbad87.com/evenements/2015/03/28/championnat-departemental-simple-587302
END:VEVENT
END:VCALENDAR
