BEGIN:VCALENDAR
VERSION:2.0
PRODID:-//hacksw/handcal//NONSGML v1.0//EN
BEGIN:VEVENT
SUMMARY:TROPHEE JEUNE REGIONAL - etape 2
UID:7b8c3e8b-9b3f-40a9-acf7-81fc964056d9
DTSTART:20151204T230000Z
DTEND:20151206T230000Z
LOCATION:Localisation Gymnase Faugeras et Petit Beaubreuil  Limoges
CATEGORIES:Sportif
STATUS:
DESCRIPTION:<p>L'ASBAD 87 organise la seconde etape du TRJ les 5 et 6
 decembre 2015. </p>
 
 <p>La competition se deroulera sur 2 gymnases :
 Faugeras et Petit Beaubreuil</p>
 
 <p>Les joueurs peuvent s'inscrire
 sur les 3 tableaux. </p>
 
 <p><strong><span
 style="color:#FF0000;">Etant donne que le club organise la
 competition, nous vous demandons d'apporter un plat pour une des deux
 buvettes ainsi que de venir aider a
 l'organisation. </span></strong></p>
 
 <p>La date limite
 d'inscription est fixe au 21 novembre 2015 en completant le lien
 ci-dessous.</p>
 
 <p><a
 href="https://docs.google.com/forms/d/1hQDJXlLI2s2t9fghPSJev5PKCRi7WbCkuCNnpVFQp7E/viewform?usp=send_form"
 target="_blank" rel="noreferrer noopener">Lien
 d'inscription </a></p>
 
 <p><a
 href="https://admin.sportsregions.fr/media/uploaded/sites/351/kcupload/files/Plaquette%20invitation%202015-2016%20TRJ%20n%C2%B0%202.pdf"
 target="_blank" rel="noreferrer noopener">Plaquette</a></p>
 
 <p><a
 href="https://admin.sportsregions.fr/media/uploaded/sites/351/kcupload/files/fiche%20d'information%20TRJ%202.pdf"
 target="_blank" rel="noreferrer noopener">Fiche
 d'information </a></p>
URL;VALUE=URI:https://www.asbad87.com/evenements/2015/12/05/trophee-jeune-regional-etape-2-679633
END:VEVENT
END:VCALENDAR
