BEGIN:VCALENDAR
VERSION:2.0
PRODID:-//hacksw/handcal//NONSGML v1.0//EN
BEGIN:VEVENT
SUMMARY:CIRCUIT JEUNE LIMOUSIN - etape 4
UID:ddfd5f62-dead-4b42-82e4-cfafede0a0ad
DTSTART:20160325T230000Z
DTEND:20160326T230000Z
LOCATION:Localisation   
CATEGORIES:Sportif
STATUS:
DESCRIPTION:<p>L'ASBAD 87 organise la 4eme etape du CJL le samedi 26
 mars 2016 a CHEOPS 87, Limoges. </p>
 
 <p>La date limite
 d'inscription est fixee au 10 mars 2016. </p>
 
 <p>Le club organisant
 la competition, il est demande d'amener un plat pour la
 buvette. </p>
 
 <p>Plaquette </p>
 
 <p><a
 href="https://docs.google.com/forms/d/1OmqRPDSJtj9mTfF3eHDMDTQz8hGlHNA6vrTvcQz7Wb0/viewform?usp=send_form"
 target="_blank" rel="noreferrer
 noopener">Inscription</a> </p>
 
 <p><a
 href="https://admin.sportsregions.fr/media/uploaded/sites/351/kcupload/files/CJL%204.pdf"
 target="_blank" rel="noreferrer noopener">Fiche
 d'information</a> </p>
URL;VALUE=URI:https://www.asbad87.com/evenements/2016/03/26/circuit-jeune-limousin-etape-4-730085
END:VEVENT
END:VCALENDAR
