BEGIN:VCALENDAR
VERSION:2.0
PRODID:-//hacksw/handcal//NONSGML v1.0//EN
BEGIN:VEVENT
SUMMARY:SAMBAD TOUR 2017
UID:73b3dddb-1d8d-4924-8f4c-9f1f8e94bcf0
DTSTART:20170217T230000Z
DTEND:20170219T230000Z
LOCATION:Localisation   
CATEGORIES:Sportif
STATUS:
DESCRIPTION:<p>Pour ses 30 ans, l'ASBAD 87 LIMOGES est heureuse de
 vous inviter a son 29eme tournoi national senior les 18 et 19 fevrier
 2017, ouvert aux series N a NC a partir de minime. Tournoi appele le
 "Sam Bad Tour VI" qui met a l'honneur pour la sixieme annee notre
 mascotte SAM la Girafe.</p>
 
 <p> </p>
 
 <p>Pour en revenir au tournoi
 :</p>
 
 <p>- Tableaux proposes : simple (samedi), double (dimanche)
 et mixte (a cheval sur les 2 jours)</p>
 
 <p>- Series proposees : N,
 R4-R5, R6, D7-D8, D9-P10, P11-P12-NC.<br
 id="yiv8415568200yui_3_16_0_ym19_1_1480712094549_215022">
 -
 Inscription sur 2 tableaux maximum (exception pour les classes N
 s’inscrivant sur les 3 tableaux N)</p>
 
 <p>- Dans la mesure du
 possible, poule de 3 ou 4 joueurs (2 sortants par poule) puis
 elimination directe</p>
 
 <p>- Stand Set et match sur Landouge les
 deux jours (Materiel, textile et cordage)</p>
 
 <p>- Possibilite de
 faire trois tableaux pour les joueurs N</p>
 
 <p><span
 style="color:#ff0000;"><strong>date limite d'inscription le
 01/02/2017</strong></span></p>
 
 <p><a
 href="https://admin.sportsregions.fr/media/uploaded/sites/351/kcupload/files/plaquette%20sambad%206.pdf"
 target="_blank" rel="noreferrer
 noopener"><strong>plaquette </strong></a></p>
 
 <p><a
 href="https://docs.google.com/forms/d/e/1FAIpQLSfd_8eTaMDKEKHi68KI2jWuY5FH9GmCn92BHb-Iy9BuDJtVlg/viewform"
 target="_blank" rel="noreferrer
 noopener"><strong>inscription </strong></a></p>
URL;VALUE=URI:https://www.asbad87.com/evenements/2017/02/18/sambad-tour-2017-858930
END:VEVENT
END:VCALENDAR
