BEGIN:VCALENDAR
VERSION:2.0
PRODID:-//hacksw/handcal//NONSGML v1.0//EN
BEGIN:VEVENT
SUMMARY:TOURNOI PAR EQUIPE
UID:ee29f5bd-f02c-4501-94e1-2c2297e5b8e4
DTSTART:20170609T220000Z
DTEND:20170611T220000Z
LOCATION:Localisation   
CATEGORIES:Sportif
STATUS:
DESCRIPTION:<p>L’ASBAD 87 LIMOGES est heureuse de vous convier a
 son 1er tournoi par equipe qui se deroulera les 10 et 11 juin 2017 au
 gymnase de LANDOUGE.<br>
 Les equipes devront etre composees au
 minimum de 3 hommes et 3 femmes.<br>
 Pour des raisons
 d’organisation, nous vous remercions de preciser la composition
 d’equipe pour la premiere rencontre.</p>
 
 <p><a
 href="http://www.assj-badminton.fr/wp-content/uploads/2017/05/Affiche.pdf"
 target="_blank" rel="noreferrer noopener">plaquette </a></p>
 
 <p><a
 href="http://www.assj-badminton.fr/wp-content/uploads/2017/05/R%C3%A9glement-tournoi-par-%C3%A9quipe.pdf"
 target="_blank" rel="noreferrer noopener">reglement </a></p>
 
 <p><a
 href="https://admin.sportsregions.fr/media/uploaded/sites/351/kcupload/files/tournoi%20asbad%2087%20par%20%C3%A9quipe(1).pdf"
 target="_blank" rel="noreferrer noopener">inscription </a></p>
 
 <p><a
 href="https://docs.google.com/forms/d/e/1FAIpQLScDJdS6Yu-HMLtMtoWg76V38alR1V6yqncqIlBUbKzfFKlt4g/viewform?usp=sf_link"
 target="_blank" rel="noreferrer noopener">plat pour la buvette
 </a></p>
URL;VALUE=URI:https://www.asbad87.com/evenements/2017/06/10/tournoi-par-equipe-928647
END:VEVENT
END:VCALENDAR
