BEGIN:VCALENDAR
VERSION:2.0
PRODID:-//hacksw/handcal//NONSGML v1.0//EN
BEGIN:VEVENT
SUMMARY:SAM VEILLI - Tournoi veteran
UID:7fc7d3cf-a80d-4588-a28d-cc0a349c1137
DTSTART:20171104T230000Z
DTEND:20171105T230000Z
LOCATION:Localisation gymnase de Faugeras 87000 LIMOGES
CATEGORIES:Sportif
STATUS:
DESCRIPTION:<p><span style="font-size:18px;">SALUT les veterans, vous
 trouverez le lien d'inscription au tournoi ci-dessous
 !</span></p>
 
 <p><span style="font-size:18px;">Penser a preparer
 l'une de vos specialites culinaires favorites pour la buvette,
 MERCI.</span></p>
 
 <p><span style="color:#ff0000;">Date limite
 d’inscription : 25 octobre 2017. </span></p>
 
 <p><a
 href="https://goo.gl/forms/si0qpG4umpSP6lXQ2" target="_blank"
 rel="noreferrer noopener">lien inscription</a></p>
URL;VALUE=URI:https://www.asbad87.com/evenements/2017/11/05/sam-veilli-tournoi-veteran-983009
END:VEVENT
END:VCALENDAR
