BEGIN:VCALENDAR
VERSION:2.0
PRODID:-//hacksw/handcal//NONSGML v1.0//EN
BEGIN:VEVENT
SUMMARY:CIRCUIT JEUNE (87) - etape1
UID:3a6bb301-3dbf-43e8-a7b3-55d2bd585d7f
DTSTART:20171209T230000Z
DTEND:20171210T230000Z
LOCATION:Localisation   
CATEGORIES:Sportif
STATUS:
DESCRIPTION:<p>L'ASBAD 87 est heureuse de convier les jeunes du
 departement a la premiere etape de la saison du CJ87.</p>
 
 <p>Elle se
 deroulera le dimanche 10 decembre 2017 au gymnase
 d'Oradour-sur-Glane.</p>
 
 <p><a
 href="https://admin.sportsregions.fr/media/uploaded/sites/351/kcupload/files/Reglement%20CJ%2087%20-2017-2018.pdf"
 target="_blank" rel="noreferrer noopener">reglement
 tournoi</a></p>
 
 <p><a
 href="https://admin.sportsregions.fr/media/uploaded/sites/351/kcupload/files/plaquette%20CJ87%202017-2018.pdf"
 target="_blank" rel="noreferrer noopener">plaquette
 tournoi</a></p>
 
 <p>date limite d'inscriptions fixees au <span
 style="color:#ff0000;"><u><strong>24/11/17</strong></u></span> par le
 lien suivant: <a href="https://goo.gl/forms/g5FEt6A2X5H3pvl03"
 target="_blank" rel="noreferrer
 noopener">https://goo.gl/forms/g5FEt6A2X5H3pvl03</a></p>
URL;VALUE=URI:https://www.asbad87.com/evenements/2017/12/10/circuit-jeune-87-etape1-1006635
END:VEVENT
END:VCALENDAR
