BEGIN:VCALENDAR
VERSION:2.0
PRODID:-//hacksw/handcal//NONSGML v1.0//EN
BEGIN:VEVENT
SUMMARY:CIRCUIT JEUNE DEPARTEMENTAL (87) - etape 2
UID:3d640314-491b-475c-b937-2bc024c0f82c
DTSTART:20181207T230000Z
DTEND:20181209T230000Z
LOCATION:Localisation   
CATEGORIES:Sportif
STATUS:
DESCRIPTION:<p>L'ASBAD 87 accueillera la 2eme etape du CJ les 8 et
 9 decembre 2018.</p>
 
 <p>Attention, les matchs se derouleront au
 gymnase de Faugeras le samedi et au Gymnase du Petit Beaubreuil
 le dimanche<br>
 <a
 href="https://admin.sportsregions.fr/media/uploaded/sites/351/kcupload/files/Plaquette%20CJ87%202018-2019.pdf"
 target="_blank" rel="noreferrer noopener">plaquette
 tournoi</a></p>
 
 <p><a
 href="https://admin.sportsregions.fr/media/uploaded/sites/351/kcupload/files/Reglement%20CJ%2087%20-2018-2019%20(1).pdf"
 target="_blank" rel="noreferrer noopener">reglement
 tournoi</a></p>
 
 <p>date limite d'inscription fixee au
 <u><strong>29/11/18</strong></u> par le lien suivant: <a
 href="https://goo.gl/forms/16DFvJWBbLWKymdT2" target="_blank"
 rel="noreferrer
 noopener">https://goo.gl/forms/16DFvJWBbLWKymdT2</a></p>
URL;VALUE=URI:https://www.asbad87.com/evenements/2018/12/08/circuit-jeune-departemental-87-etape-2-1175754
END:VEVENT
END:VCALENDAR
