BEGIN:VCALENDAR
VERSION:2.0
PRODID:-//hacksw/handcal//NONSGML v1.0//EN
BEGIN:VEVENT
SUMMARY:SAMBAD TOUR 2019
UID:9ef64504-846e-463d-946b-e1a344b2467d
DTSTART:20190215T230000Z
DTEND:20190217T230000Z
LOCATION:Localisation   
CATEGORIES:Sportif
STATUS:
DESCRIPTION:<p>L'ASBAD 87 LIMOGES est heureuse d’inviter tous les
 badistes a son 31eme tournoi national senior les 1<b>6 et 17 fevrier
 2019</b>.</p>
 
 <p>Situe a moins de 3h de Bordeaux, Clermont-Ferrand,
 Toulouse, Tours, Bourges et Niort et moins de 4h de Paris, Lyon et
 Nantes, ce tournoi souhaite accueillir un maximum de joueurs venus de
 regions differentes et se rencontrant rarement. Pour se faire, nous
 ouvrons notre tournoi de NC a N1 a partir de la categorie
 minime.</p>
 
 <p>Informations principales sur le tournoi :</p>
 
 <p>-
 Tableaux proposes : simple et mixte (samedi), double
 (dimanche)</p>
 
 <p>- Series constituees en fonction du CPPH<br>
 -
 Inscriptions sur 2 tableaux possibles (simple ou mixte +
 double)</p>
 
 <p>- Poule de 3 ou 4 joueurs (2 sortants par poule) puis
 elimination directe</p>
 
 <p>- Stand Set et match sur Landouge les
 deux jours (Materiel, textile et cordage)</p>
 
 <p>- Principales
 dotations :</p>
 
 <table border="1" cellpadding="0" cellspacing="0"
 width="548">
 	<tbody>
 		<tr>
 			<td nowrap valign="bottom"
 width="80"> </td>
 			<td colspan="2" nowrap valign="bottom"
 width="160">
 			<p align="center">Simple</p>
 			</td>
 			<td
 colspan="2" nowrap valign="bottom" width="189">
 			<p
 align="center">Double/mixte (par joueur)</p>
 			</td>
 			<td nowrap
 width="119">
 			<p> </p>
 			</td>
 		</tr>
 		<tr>
 			<td nowrap
 valign="bottom" width="80"> </td>
 			<td nowrap valign="bottom"
 width="80">
 			<p align="center">Vainqueur</p>
 			</td>
 			<td nowrap
 valign="bottom" width="80">
 			<p
 align="center">Finaliste</p>
 			</td>
 			<td nowrap valign="bottom"
 width="96">
 			<p align="center">Vainqueurs</p>
 			</td>
 			<td
 nowrap valign="bottom" width="94">
 			<p
 align="center">Finalistes</p>
 			</td>
 			<td nowrap
 width="119">
 			<p> </p>
 			</td>
 		</tr>
 		<tr>
 			<td nowrap
 valign="bottom" width="80">
 			<p>Serie 1</p>
 			</td>
 			<td nowrap
 valign="bottom" width="80">
 			<p
 align="center">200€</p>
 			</td>
 			<td nowrap valign="bottom"
 width="80">
 			<p align="center">150€</p>
 			</td>
 			<td nowrap
 valign="bottom" width="96">
 			<p
 align="center">100€</p>
 			</td>
 			<td nowrap valign="bottom"
 width="94">
 			<p align="center">75€</p>
 			</td>
 			<td nowrap
 valign="bottom" width="119">
 			<p
 align="center">Cash</p>
 			</td>
 		</tr>
 		<tr>
 			<td nowrap
 width="80">
 			<p>Serie 2</p>
 			</td>
 			<td nowrap valign="bottom"
 width="80">
 			<p align="center">100€</p>
 			</td>
 			<td nowrap
 valign="bottom" width="80">
 			<p
 align="center">60€</p>
 			</td>
 			<td nowrap valign="bottom"
 width="96">
 			<p align="center">80€</p>
 			</td>
 			<td nowrap
 valign="bottom" width="94">
 			<p
 align="center">50€</p>
 			</td>
 			<td nowrap valign="bottom"
 width="119">
 			<p align="center">Cash + bon
 achat</p>
 			</td>
 		</tr>
 	</tbody>
 </table>
 
 <p>De nombreux autres
 lots pour les autres categories.<br>
 A tres bientot</p>
 
 <p><a
 href="https://admin.sportsregions.fr/media/uploaded/sites/351/kcupload/files/Plaquette%20sambad%20f%C3%A9vrier%202019.pdf"
 target="_blank" rel="noreferrer noopener">plaquette
 tournoi</a></p>
 
 <p><a
 href="https://admin.sportsregions.fr/media/uploaded/sites/351/kcupload/files/R%C3%A9glement%20SAMBAD%20TOUR%2016-17%20f%C3%A9vrier%202019.pdf"
 target="_blank" rel="noreferrer noopener">reglement
 tournoi</a></p>
 
 <p>date limite d'inscription fixee au <span
 style="color:#ff0000;"><strong>26/01/19</strong></span> par le lien
 suivant: <a href="https://goo.gl/forms/3HBUf5DAU1pjpdzj2"
 target="_blank" rel="noreferrer
 noopener">https://goo.gl/forms/3HBUf5DAU1pjpdzj2</a></p>
URL;VALUE=URI:https://www.asbad87.com/evenements/2019/02/16/sambad-tour-2019-1159638
END:VEVENT
END:VCALENDAR
