BEGIN:VCALENDAR
VERSION:2.0
PRODID:-//hacksw/handcal//NONSGML v1.0//EN
BEGIN:VEVENT
SUMMARY:TOURNOI JEUNES ET VETERANS 2019
UID:e8ab8dfa-e237-46a1-a988-d28493352675
DTSTART:20190426T220000Z
DTEND:20190428T220000Z
LOCATION:Localisation   
CATEGORIES:Sportif
STATUS:
DESCRIPTION:<p>Nous sommes heureux de convier les jeunes et moins
 jeunes a notre tournoi J&V des 27 et 28 avril 2019 a
 Limoges.</p>
 
 <p>Vous pouvez vous inscrire sur les 3 tableaux (simple
 le samedi, double/mixte le dimanche).</p>
 
 <p>Afin de proposer les
 matchs les plus interessants possibles, nous scinderons les series au
 maximum :</p>
 
 <p>-          Simples jeunes : R6-D7-D8,
 D9-P10, P11-P12-NC.</p>
 
 <p>-          Simples veterans :
 R4-R5-R6, D7-D8, D9-P10, P11-P12-NC.</p>
 
 <p>Les simples seront
 composes de poules de trois a cinq joueurs (deux sortants par poule),
 puis par elimination directe en sortie de
 poules.</p>
 
 <p>-          Les doubles et mixtes se
 joueront en poule unique (sans sortie de poule) de 4 ou 5
 joueurs.</p>
 
 <p><a
 href="https://admin.sportsregions.fr/media/uploaded/sites/351/kcupload/files/R%C3%A9glement%20J-V%2027-28%20avril%202019%20ASBAD87.pdf"
 target="_blank" rel="noreferrer noopener">reglement
 tournoi</a></p>
 
 <p>date limite d'inscription fixee au <span
 style="color:#ff0000;"><u><strong>17/04/19</strong></u></span> par le
 lien suivant: <a href="https://goo.gl/forms/lI59yAqFxmJr98Sd2"
 target="_blank" rel="noreferrer
 noopener">https://goo.gl/forms/lI59yAqFxmJr98Sd2</a></p>
URL;VALUE=URI:https://www.asbad87.com/evenements/2019/04/27/tournoi-jeunes-et-veterans-2019-1224122
END:VEVENT
END:VCALENDAR
