BEGIN:VCALENDAR
VERSION:2.0
PRODID:-//hacksw/handcal//NONSGML v1.0//EN
BEGIN:VEVENT
SUMMARY:CIRCUIT JEUNE DEPARTEMENTAL (87) - etape 2
UID:d90ca55b-a721-4578-bf1f-94ce6938021d
DTSTART:20191213T230000Z
DTEND:20191215T230000Z
LOCATION:Localisation   
CATEGORIES:Sportif
STATUS:
DESCRIPTION:<p>La 1ere etape du CJ ne s'est pas encore deroulee que
 la deuxieme se prepare les 14 et 15 decembre prochain a
 Faugeras.</p>
 
 <p>date limite d'inscription fixee au <span
 style="color:#ff0000;"><u><strong>03/12/19 </strong></u></span>par le
 lien suivant <a href="https://forms.gle/4U11scVXrjRMgWTz5"
 target="_blank" rel="noreferrer
 noopener"><u><strong>: https://forms.gle/4U11scVXrjRMgWTz5</strong></u></a></p>
 
 <p><a
 href="https://admin.sportsregions.fr/media/uploaded/sites/351/kcupload/files/plaquette%20CJ87%202019-2020.pdf"
 target="_blank" rel="noreferrer noopener">plaquette
 tournoi </a></p>
 
 <p><a
 href="https://admin.sportsregions.fr/media/uploaded/sites/351/kcupload/files/Reglement_CJ_87_20192020_1_5d910f128f8a7.pdf"
 target="_blank" rel="noreferrer noopener">reglement tournoi </a></p>
URL;VALUE=URI:https://www.asbad87.com/evenements/2019/12/14/circuit-jeune-departemental-87-etape-2-1319589
END:VEVENT
END:VCALENDAR
