BEGIN:VCALENDAR
VERSION:2.0
PRODID:-//hacksw/handcal//NONSGML v1.0//EN
BEGIN:VEVENT
SUMMARY:SAMBAD TOUR 2020
UID:4a810419-1e47-419c-bac1-119ffb0842c1
DTSTART:20200214T230000Z
DTEND:20200216T230000Z
LOCATION:Localisation   
CATEGORIES:Sportif
STATUS:
DESCRIPTION:<p>Avis aux badistes,<br>
 <br>
 L'ASBAD 87 LIMOGES est
 heureuse d'inviter tous les badistes a son 32eme tournoi national
 senior les 15 et 16 fevrier 2020.<br>
 <br>
 Situe a moins de 3h de
 Bordeaux, Clermont-Ferrand, Toulouse, Tours, Bourges et Niort et
 moins de 4h de Paris, Lyon et Nantes, ce tournoi souhaite accueillir
 un maximum de joueurs venus de regions differentes et se rencontrant
 rarement.<br>
 <br>
 Pour se faire, nous ouvrons notre tournoi de NC a
 N1 a partir de la categorie minime.<br>
 <br>
 Informations principales
 sur le tournoi :<br>
 <br>
 - Suivi de la competition sur
 badnet<br>
 <br>
 - Tableaux proposes : simple et mixte (samedi),
 double (dimanche)<br>
 <br>
 - Series constituees en fonction du
 CPPH<br>
 <br>
 - Inscriptions sur 2 tableaux possibles (simple ou
 mixte + double)<br>
 <br>
 - Poule de 3 ou 4 joueurs (2 sortants par
 poule) puis elimination directe<br>
 <br>
 - Stand Set et match sur
 Landouge les deux jours (Materiel, textile et cordage)<br>
 <br>
 -
 Principales dotations :<br>
 <br>
 Simple<br>
 Serie 1 : V : 200€ ; F
 : 150€ (en cash)<br>
 Serie 2 : V : 80€ ; F : 50€ (en
 cash)<br>
 <br>
 Double/mixte (par joueur)<br>
 Serie 1 : V : 100€ ; F
 : 75€ (en cash)<br>
 Serie 2 : V : 70€ ; F : 40€ (en
 cash)<br>
 <br>
 De nombreux autres lots pour les autres
 series.<br>
 <strong>Pour la buvette je ramene</strong> : <a
 href="https://forms.gle/7r3dzZb1PduYafwH7" target="_blank"
 rel="noreferrer noopener">https://forms.gle/7r3dzZb1PduYafwH7</a> =>
 <u><strong>ATTENTION : obligation de remplir ce questionnaire pour
 faire valider l'inscription badnet</strong></u><br>
 Lien Badnet pour
 les inscriptions : <a
 href="https://www.badnet.org/Src/index.php?ic_a=655616&eventId=11070"
 target="_blank" rel="noreferrer
 noopener">https://www.badnet.org/Src/index.php?ic_a=655616&eventId=11070</a><br>
 Date
 limite d'inscription fixee au <span
 style="color:#ff0000;"><u><strong>31/01/19</strong></u></span></p>
URL;VALUE=URI:https://www.asbad87.com/evenements/2020/02/15/sambad-tour-2020-1335601
END:VEVENT
END:VCALENDAR
