BEGIN:VCALENDAR
VERSION:2.0
PRODID:-//hacksw/handcal//NONSGML v1.0//EN
BEGIN:VEVENT
SUMMARY:CIRCUIT JEUNE DEPARTEMENTAL (87) - etape 6
UID:c936a111-9441-4ef5-8528-eb95aa00ca66
DTSTART:20230526T220000Z
DTEND:20230528T220000Z
LOCATION:Localisation   
CATEGORIES:Sportif
STATUS:
DESCRIPTION:<p>Bonjour a tous, </p>
 
 <p>Le club de l'ASBAD 87
 Limoges est heureux d'accueillir la 6eme etape du Circuit Jeunes
 87 du 27 et 28 mai 2023. </p>
 
 <p>Les poules seront constituees
 en fonction du CCPH. Les poules et les sorties de poule seront jouees
 sur la meme journee.<br>
 <br>
 Joueurs : P10 maximum au 08/09/2022. Si
 un joueur passe D au cours de la saison, il devra jouer dans la
 categorie superieure.</p>
 
 <p>Nous vous attendons au gymnase
 Faugeras, 3 rue Bill Colleman a Limoges (87000).  </p>
 
 <p>Une
 buvette bien garnie sera a votre disposition. </p>
 
 <p>La date
 limite d'inscriptions est fixee au 16 mai 2023. <br>
 Lien
 d'inscription : <a
 href="https://badnet.fr/joueur/tournoi?eventid=18932" target="_blank"
 rel="noreferrer
 noopener">https://badnet.fr/joueur/tournoi?eventid=18932</a></p>
 
 <p>Sportivement, </p>
 
 <p>L'ASBAD
 87 Limoges</p>
URL;VALUE=URI:https://www.asbad87.com/evenements/2023/05/27/circuit-jeune-departemental-87-etape-6-1799729
END:VEVENT
END:VCALENDAR
