BEGIN:VCALENDAR
VERSION:2.0
PRODID:-//hacksw/handcal//NONSGML v1.0//EN
BEGIN:VEVENT
SUMMARY:CIRCUIT JEUNE DEPARTEMENTAL (87) - etape 1
UID:92328fea-5a25-4628-b889-9ea3ebd4c025
DTSTART:20231103T230000Z
DTEND:20231105T230000Z
LOCATION:Localisation   
CATEGORIES:Sportif
STATUS:
DESCRIPTION:<p>Bonjour a tous,</p>
 
 <p>Nous avons le plaisir de vous
 inviter a <strong>la 1ere etape de notre Circuit Jeunes de la
 Haute-Vienne (CJ87)</strong></p>
 
 <p><strong>Cette 1ere etape sera
 organisee par l'ASBAD87 Limoges, et se deroulera au Gymnase de
 Landouge (Limoges) samedi 4 et dimanche 5 novembre (attention en
 fonction du nombre d'inscrits, il est possible que la competition
 puisse se derouler entierement sur la journee du
 Samedi)</strong></p>
 
 <p>Cette competition de simple se deroule en 4
 etapes et est ouverte aux joueurs NC et P (au 11 septembre 2023) des
 categories minibads a cadets.</p>
 
 <p>Attention, un joueur NC ou P en
 debut de saison qui se serait classe D9 avant la 1ere etape, peut
 s'inscrire (Cf Reglement).</p>
 
 <p> </p>
 
 <p>Nouveaute cette saison,
 il n'y a plus de classement individuel a l'issue de la competition.
 Celui ci est remplace par un classement club par categorie et toutes
 categories (Cf Reglement).</p>
 
 <p> </p>
 
 <p><strong>Inscription
 jusqu'au 25 Octobre avec le lien suivant : <a
 href="https://badnet.fr/tournoi/public/informations?eventid=20710"
 target="_blank" rel="noreferrer
 noopener">https://badnet.fr/tournoi/public/informations?eventid=20710</a></strong></p>
URL;VALUE=URI:https://www.asbad87.com/evenements/2023/11/04/circuit-jeune-departemental-87-etape-1-1887489
END:VEVENT
END:VCALENDAR
