BEGIN:VCALENDAR
VERSION:2.0
PRODID:-//hacksw/handcal//NONSGML v1.0//EN
BEGIN:VEVENT
SUMMARY:TOURNOI RAPIDO 2023
UID:0a4a71a6-a2e7-47f0-b928-86ef697e06bd
DTSTART:20231208T230000Z
DTEND:20231210T230000Z
LOCATION:Localisation   
CATEGORIES:Sportif
STATUS:
DESCRIPTION:<p>Bonjour a tous, le club de l'Asbad est heureux de vous
 convier a son Tournoi Rapido !<br>
 Le tournoi se deroulera les Samedi
 et Dimanche 9 - 10 Decembre 2023 au gymnase de
 Faugeras.<br>
  </p>
 
 <ul>
 	<li>Les tableaux seront composes de
 poules uniques de 4 paires (sans sortie).</li>
 	<li>Nous debuterons
 par les mixtes et simples le samedi et finirons par les doubles le
 dimanche</li>
 	<li>Les jeunes pourront participer en meme temps que
 leurs parents.</li>
 	<li>Une buvette en libre-service (mais en
 quantite limitee) sera proposee pour ceux qui ameneront leurs
 couverts (le club ne proposera pas d’assiettes, couteaux,
 fourchettes ni de gobelets)</li>
 	<li>Aucun lot ne sera distribue sur
 ce tournoi.</li>
 	<li>Les inscriptions/paiements seront
 obligatoirement faits sur Badnet (frais bancaires a notre charge)
 avec le lien suivant : <a
 href="https://badnet.fr/tournoi/public/informations?eventid=20524"
 target="_blank" rel="noreferrer
 noopener">https://badnet.fr/tournoi/public/informations?eventid=20524</a><br>
 	 </li>
 </ul>
 
 <p>Esperant
 vous accueillir encore une fois nombreux pour ce tournoi.</p>
URL;VALUE=URI:https://www.asbad87.com/evenements/2023/12/09/tournoi-rapido-2023-1894535
END:VEVENT
END:VCALENDAR
