BEGIN:VCALENDAR
VERSION:2.0
PRODID:-//hacksw/handcal//NONSGML v1.0//EN
BEGIN:VEVENT
SUMMARY:TOURNOI RAPIDO 2024
UID:7ec555a5-a27a-465f-a3cd-d7144552a79e
DTSTART:20240927T220000Z
DTEND:20240929T220000Z
LOCATION:Localisation   
CATEGORIES:Sportif
STATUS:
DESCRIPTION:<p>Le tournoi se deroulera les Samedi et
 Dimanche<strong> 28 et 29 septembre 2024</strong> au gymnase de
 Landouge.<br>
  </p>
 
 <ul>
 	<li>Les tableaux seront composes
 de <strong>poules uniques de 4 paires</strong> (sans
 sortie).</li>
 	<li>Nous debuterons par les <strong>mixtes et simples
 le samedi</strong> et finirons par les <strong>doubles le
 dimanche.</strong></li>
 	<li>Les jeunes pourront participer en meme
 temps que leurs parents.</li>
 	<li>Une <strong>buvette en
 libre-service gratuite</strong> sera proposee pour ceux qui
 ameneront leurs couverts (le club ne proposera pas d’assiettes,
 couteaux, fourchettes ni de gobelets)</li>
 	<li>Aucun lot ne sera
 distribue sur ce tournoi.</li>
 	<li>Les inscriptions/paiements seront
 obligatoirement faits sur Badnet.</li>
 </ul>
 
 <p> </p>
 
 <p>Lien
 d'inscription : <a
 href="https://badnet.fr/tournoi/public/informations?eventid=25057"
 target="_blank" rel="noreferrer
 noopener">https://badnet.fr/tournoi/public/informations?eventid=25057</a></p>
 
 <p> </p>
 
 <p><strong><u>IMPORTANT :</u></strong><br>
 Chaque
 joueur inscrit devra etre a jour de sa licence FFBaD au plus tard le
 LUNDI 16 SEPTEMBRE 2024. Un delai etant necessaire pour la saisie et
 la validation de la licence FFBaD, nous vous recommandons
 d’anticiper la prise de votre licence FFBaD dans votre club. Passee
 cette date, aucun delai ne pourra etre accorde, l’inscription des
 joueurs non-licencies sera annulee et
 remboursee.</p>
 
 <p> </p>
 
 <p>Esperant vous accueillir encore une
 fois nombreux pour ce tournoi.</p>
URL;VALUE=URI:https://www.asbad87.com/evenements/2024/09/28/tournoi-rapido-2024-2045809
END:VEVENT
END:VCALENDAR
